BEGIN:VCALENDAR
VERSION:2.0
PRODID:-//ICE Safety Solutions - ECPv5.1.6//NONSGML v1.0//EN
CALSCALE:GREGORIAN
METHOD:PUBLISH
X-WR-CALNAME:ICE Safety Solutions
X-ORIGINAL-URL:https://www.getice.com
X-WR-CALDESC:Events for ICE Safety Solutions
BEGIN:VTIMEZONE
TZID:America/Los_Angeles
BEGIN:DAYLIGHT
TZOFFSETFROM:-0800
TZOFFSETTO:-0700
TZNAME:PDT
DTSTART:20250309T100000
END:DAYLIGHT
BEGIN:STANDARD
TZOFFSETFROM:-0700
TZOFFSETTO:-0800
TZNAME:PST
DTSTART:20251102T090000
END:STANDARD
END:VTIMEZONE
BEGIN:VEVENT
DTSTART;TZID=America/Los_Angeles:20250614T080000
DTEND;TZID=America/Los_Angeles:20250614T110000
DTSTAMP:20260424T113541
CREATED:20250523T221316Z
LAST-MODIFIED:20250523T221316Z
UID:7818-1749888000-1749898800@www.getice.com
SUMMARY:American Heart Association BLS For Healthcare Providers
DESCRIPTION:The BLS Healthcare Provider course is hosted at our Fremont\, CA training center in the East Bay. It is perfect for those Healthcare Professionals working in a medical clinic\, dental office\, hospital\, fire department\, physical therapy clinic or ambulance. We will be practicing CPR and the use of an AED for people of all ages. \nWe thoroughly clean/prep the materials and surface areas prior to your arrival. \nCertification: \nAmerican Heart Association Basic Life Support for Healthcare Providers valid for 2 years. \nAHA NO LONGER SUPPORTS PRINTED CARDS. YOU WILL RECEIVE A DIGITAL CARD THROUGH YOUR PROVIDED EMAIL ADDRESS in 2-5 business days. \nLocation: \n4059 Clipper Court\nFremont\, CA 94538 \nTerms: \n\nYou may cancel/reschedule up to 1 week in advance.\nNo refunds on cancellations/rescheduling with less than 1 week notice.\n\nNote: \nWhen REGISTERING please write you name how it will appear on your certification card. Please use your email address and double check spelling on name and email address. \nCLASSES  All classes are payable in advance. Cancellation fees will apply unless 1-week written cancellation notice is given. Cancellation with less than 1 weeks’ notice is non-refundable. In the event of a cancellation with less than one week’s notice or a no show\, student will be placed in a future class. \nThis hands-on\, FUN\, and interactive course will cover infant\, child and adult CPR skills\, rescue breathing\, AED and foreign body airway obstruction. Additional proficiency include hands on practice with the ambu-mask\, ambu-bag and Automated External Defibrillators. \n  \n  \nThank you for training with us! \n 
URL:https://www.getice.com/event/american-heart-association-bls-for-healthcare-providers-17/
LOCATION:CA\, United States
CATEGORIES:American Heart Association,BLS for Healthcare Providers
ATTACH;FMTTYPE=image/png:https://www.getice.com/wp-content/uploads/2018/08/American_Heart_Association_trainning_Center-oxqgci.png
END:VEVENT
END:VCALENDAR